BEGIN:VCALENDAR
VERSION:2.0
PRODID:-//Tukios.com/
BEGIN:VEVENT
UID:473eaec0-4948-4fd6-947a-6b77b32f284a@www.weathersfuneralhome.com
DTSTAMP:20260422T011431Z
DTSTART:20260428T160000Z
DTEND:20260428T200000Z
SUMMARY:Visitation
DESCRIPTION:
URL:https://www.weathersfuneralhome.com/obituaries/heidi-chastain
LOCATION:  West Mount Tabor Road  Salem IN 
GEO:38.5933703;-86.2147765
END:VEVENT
END:VCALENDAR