BEGIN:VCALENDAR
VERSION:2.0
PRODID:-//Tukios.com/
BEGIN:VEVENT
UID:f3d03f2c-1c3f-404e-aa48-8b0ef7a3c345@www.weathersfuneralhome.com
DTSTAMP:20260422T011212Z
DTSTART:20260428T200000Z
DTEND:20260428T210000Z
SUMMARY:Funeral Service
DESCRIPTION:
URL:https://www.weathersfuneralhome.com/obituaries/heidi-chastain
LOCATION:  West Mount Tabor Road  Salem IN 
GEO:38.5933703;-86.2147765
END:VEVENT
END:VCALENDAR