BEGIN:VCALENDAR
VERSION:2.0
PRODID:-//Tukios.com/
BEGIN:VEVENT
UID:96ebbfb8-0c0e-4a97-9167-cd619679f5c1@www.weathersfuneralhome.com
DTSTAMP:20260421T201001Z
DTSTART:20260421T200000Z
DTEND:20260422T000000Z
SUMMARY:Visitation
DESCRIPTION:
URL:https://www.weathersfuneralhome.com/obituaries/tina-burger
LOCATION:Weathers Funeral Home  106 South Shelby Street  Salem IN 47167
GEO:38.6048508;-86.1069032
END:VEVENT
END:VCALENDAR