BEGIN:VCALENDAR
VERSION:2.0
PRODID:-//Tukios.com/
BEGIN:VEVENT
UID:019a6d7b-bfdb-462f-a711-09d1a3fc0893@www.weathersfuneralhome.com
DTSTAMP:20260421T200715Z
DTSTART:20260422T140000Z
DTEND:20260422T150000Z
SUMMARY:Funeral Service
DESCRIPTION:
URL:https://www.weathersfuneralhome.com/obituaries/tina-burger
LOCATION:2253 W St Joe Rd 2253 W St Joe Rd  Sellersburg IN 47172
GEO:38.3993129;-85.7983373
END:VEVENT
END:VCALENDAR